BEGIN:VCALENDAR
CALSCALE:GREGORIAN
PRODID:-//Apple Inc.//macOS 26.2//EN
VERSION:2.0
BEGIN:VTIMEZONE
TZID:Europe/Zurich
BEGIN:DAYLIGHT
DTSTART:19810329T020000
RRULE:FREQ=YEARLY;BYMONTH=3;BYDAY=-1SU
TZNAME:MESZ
TZOFFSETFROM:+0100
TZOFFSETTO:+0200
END:DAYLIGHT
BEGIN:STANDARD
DTSTART:19961027T030000
RRULE:FREQ=YEARLY;BYMONTH=10;BYDAY=-1SU
TZNAME:MEZ
TZOFFSETFROM:+0200
TZOFFSETTO:+0100
END:STANDARD
END:VTIMEZONE
BEGIN:VEVENT
CREATED:20260318T103625Z
DTEND;TZID=Europe/Zurich:20260421T220000
DTSTAMP:20260318T103638Z
DTSTART;TZID=Europe/Zurich:20260421T190000
LAST-MODIFIED:20260318T103634Z
SEQUENCE:5
SUMMARY:Generalversammlung City Vereinigung Luzern
TRANSP:OPAQUE
UID:CF2BBBB7-9028-4C25-B760-7D92AF711F5D
X-APPLE-CREATOR-IDENTITY:com.apple.calendar
X-APPLE-CREATOR-TEAM-IDENTITY:0000000000
END:VEVENT
END:VCALENDAR
